BEGIN:VCALENDAR
VERSION:2.0
PRODID:-//สมาคมนิสิตเก่า คณะพาณิชยศาสตร์และการบัญชี แห่งจุฬาลงกรณ์มหาวิทยาลัย - ECPv5.2.1.1//NONSGML v1.0//EN
CALSCALE:GREGORIAN
METHOD:PUBLISH
X-WR-CALNAME:สมาคมนิสิตเก่า คณะพาณิชยศาสตร์และการบัญชี แห่งจุฬาลงกรณ์มหาวิทยาลัย
X-ORIGINAL-URL:https://cbsalumni.com
X-WR-CALDESC:Events for สมาคมนิสิตเก่า คณะพาณิชยศาสตร์และการบัญชี แห่งจุฬาลงกรณ์มหาวิทยาลัย
BEGIN:VTIMEZONE
TZID:Asia/Krasnoyarsk
BEGIN:STANDARD
TZOFFSETFROM:+0700
TZOFFSETTO:+0700
TZNAME:+07
DTSTART:20250101T000000
END:STANDARD
END:VTIMEZONE
BEGIN:VEVENT
DTSTART;VALUE=DATE:20250129
DTEND;VALUE=DATE:20250130
DTSTAMP:20260420T033727
CREATED:20250113T102518Z
LAST-MODIFIED:20250113T102518Z
UID:5341-1738108800-1738195199@cbsalumni.com
SUMMARY:งานคืนสู่เหย้า SHI CU REUNION 2025 ‘บัญชีจุฬาฯ สัมพันธ์น้องพี่ มั่งมี มหาเฮง’ ประจำปี 2568
DESCRIPTION:คิดถึงกันไหม พี่น้องชาวบัญชีจุฬาฯ\nกลับมาอีกครั้ง! กับงานคืนสู่เหย้า SHI CU REUNION 2025 ‘บัญชีจุฬาฯ สัมพันธ์น้องพี่ มั่งมี มหาเฮง’ ประจำปี 2568\nโอกาสเดียวในรอบปีที่สายสัมพันธ์ระหว่างพี่น้องบัญชีจุฬาฯ จะแน่นแฟ้นยิ่งขึ้น\nงานนี้นอกจากจะได้ความรู้ ภายในงานยังมีความพิเศษและกิจกรรมอีกมากมายที่รอให้พี่น้องมาสนุกไปด้วยกัน \nช่องทางติดต่อซื้อบัตรเข้าร่วมงาน \n\nผ่านตัวแทนรุ่นของท่าน\nสมาคมนิสิตเก่าคณะพาณิชยศาสตร์และการบัญชี\nแห่งจุฬาลงกรณ์มหาวิทยาลัย ติดต่อ : 092-254-3171 (คุณนุ่น)\nซื้อบัตรได้ที่หน้างาน\n\nราคาเพียง 500.- / ท่าน\nอย่าลืม! ใส่ชุดธีม มั่งมี ศรี “แดง/ฟ้า”\nแล้วพบกันในวันที่ 29 มกราคม 2568 นี้\n\n\n\nติดตามข่าวสารได้ทุกช่องทาง\nFB: shicualumni\nIG: shicualumni\nLineOA: @shicualumni\nTiktok: shicualumnichula\nYoutube: shicualumni
URL:https://cbsalumni.com/event/shi-cu-reunion-2025/
LOCATION:ณ สนามหน้าอาคารไชยยศสมบัติ 1-3 คณะพาณิชยศาสตร์และการบัญชี จุฬาฯ
END:VEVENT
BEGIN:VEVENT
DTSTART;TZID=Asia/Krasnoyarsk:20250129T170000
DTEND;TZID=Asia/Krasnoyarsk:20250129T180000
DTSTAMP:20260420T033727
CREATED:20250121T093714Z
LAST-MODIFIED:20250121T093714Z
UID:5358-1738170000-1738173600@cbsalumni.com
SUMMARY:ห้ามพลาด TOP PETRA TALK 2025 กิจกรรมสุดพิเศษในงานคืนสู่เหย้าบัญชีจุฬาฯ 2568
DESCRIPTION:ห้ามพลาด! TOP PETRA TALK 2025 หนึ่งในกิจกรรมสุดพิเศษในงานคืนสู่เหย้าบัญชีจุฬาฯ 2568 \nพูดคุยกับสุดยอดนิสิตเก่าบัญชีจุฬาฯ ที่จะมาเสวนาเรื่องน่ารู้ให้ชวนขบคิดในหัวข้อ “AI For All: Empowering Minds\, Transforming Lives | AI ขับเคลื่อนสังคม ยกระดับชีวิต” กับบทบาทของ AI ที่จะเข้ามาเปลี่ยนแปลงสังคมและชีวิตได้อย่างไร \nพบกับผู้ร่วมเสวนามากประสบการณ์ที่จะมาแชร์และแลกเปลี่ยนความรู้ดีๆ ได้ในงานนี้ \n\nศาสตราจารย์ ดร.วิเลิศ ภูริวัชร\nอธิการบดีจุฬาลงกรณ์มหาวิทยาลัย และบัญชีจุฬาฯ ดีเด่น ประจำปี 2563\nคุณประพันธ์ เจริญประวัติ\nผู้จัดการตลาดหลักทรัพย์ เอ็ม เอ ไอ ผู้จัดการตลาดหลักทรัพย์ไลฟ์เอ็กซ์เช้นจ์ และบัญชีจุฬาฯ ดีเด่น ประจำปี 2567\nผู้ช่วยศาสตราจารย์ ดร.เกษรา ธัญลักษณ์ภาคย์\nกรรมการผู้จัดการ บริษัท เสนาดีเวลลอปเม้นท์ จำกัด (มหาชน) และบัญชีจุฬาฯ ดีเด่น ประจำปี 2563\n\nการันตีความสนุกในงาน!! เพราะดำเนินรายการโดย ผศ.ดร.เอกก์ ภทรธนกุล หัวหน้าภาควิชาการตลาด \nพบกันวันพุธที่ 29 มกราคม 2568 \nเวลา 17.00น. – 17.45น. \nณ ห้อง Chulalongkorn Business Cinema อาคารไชยยศสมบัติ 1 ชั้น 3 คณะพาณิชยศาสตร์และการบัญชี จุฬาลงกรณ์มหาวิทยาลัย \nช่องทางติดต่อซื้อบัตรเข้าร่วมงานคืนสู่เหย้า \n\n ผ่านตัวแทนรุ่นของท่าน\nสมาคมนิสิตเก่า คณะพาณิชยศาสตร์และการบัญชี แห่ง จุฬาลงกรณ์มหาวิทยาลัย ติดต่อ : 092-254-3171 (คุณนุ่น)\nซื้อบัตรได้ที่หน้างาน\n\nติดตามข่าวสารได้ทุกช่องทาง\nFB: shicualumni\nIG: shicualumni\nLineOA: @shicualumni\nTiktok: shicualumnichula\nYoutube: shicualumni
URL:https://cbsalumni.com/event/top-petra-talk-2025/
LOCATION:ณ ห้อง Chulalongkorn Business Cinema อาคารไชยยศสมบัติ 1 ชั้น 3 คณะพาณิชยศาสตร์และการบัญชี จุฬาลงกรณ์มหาวิทยาลัย
END:VEVENT
END:VCALENDAR