BEGIN:VCALENDAR
VERSION:2.0
PRODID:-//สมาคมนิสิตเก่า คณะพาณิชยศาสตร์และการบัญชี แห่งจุฬาลงกรณ์มหาวิทยาลัย - ECPv5.2.1.1//NONSGML v1.0//EN
CALSCALE:GREGORIAN
METHOD:PUBLISH
X-WR-CALNAME:สมาคมนิสิตเก่า คณะพาณิชยศาสตร์และการบัญชี แห่งจุฬาลงกรณ์มหาวิทยาลัย
X-ORIGINAL-URL:https://cbsalumni.com
X-WR-CALDESC:Events for สมาคมนิสิตเก่า คณะพาณิชยศาสตร์และการบัญชี แห่งจุฬาลงกรณ์มหาวิทยาลัย
BEGIN:VTIMEZONE
TZID:Asia/Krasnoyarsk
BEGIN:STANDARD
TZOFFSETFROM:+0700
TZOFFSETTO:+0700
TZNAME:+07
DTSTART:20240101T000000
END:STANDARD
END:VTIMEZONE
BEGIN:VEVENT
DTSTART;TZID=Asia/Krasnoyarsk:20241202T100000
DTEND;TZID=Asia/Krasnoyarsk:20241202T180000
DTSTAMP:20260420T020935
CREATED:20241011T141239Z
LAST-MODIFIED:20250401T093203Z
UID:5276-1733133600-1733162400@cbsalumni.com
SUMMARY:งานกิจกรรมการแข่งขันกอล์ฟการกุศลชิงถ้วยพระราชทาน
DESCRIPTION:[สิ้นสุดการรอคอย!!]\nขอเชิญเข้าร่วมกิจกรรมการแข่งขันกอล์ฟการกุศลชิงถ้วยพระราชทาน สมเด็จพระกนิษฐาธิราชเจ้า กรมสมเด็จพระเทพรัตนราชสุดาฯ สยามบรมราชกุมารี โดยสมาคมนิสิตเก่าคณะพาณิชยศาสตร์และการบัญชี แห่ง จุฬาลงกรณ์มหาวิทยาลัย \nวันจันทร์ที่ 2 ธันวาคม 2567\nสนามกอล์ฟริเวอร์เดล กอล์ฟ คลับ ปทุมธานี \nค่าสมัคร \n\nทีมกิตติมศักดิ์ 100\,000 บาท (โล่ขอบคุณและป้ายโฆษณาพิเศษบริเวณจุดลงทะเบียน ทีออฟ /บนเวที ของที่ระลึกและรถกอล์ฟท่านละ 1 คัน)\nทีมทั่วไป 50\,000 บาท (ของที่ระลึก และรถกอล์ฟท่านละ 1 คัน)\n\nกำหนดการแข่งขัน\n10.00 น.       ลงทะเบียน\n11.00 น.       รับประทานอาหารกลางวัน\n12.00 น.       เริ่มการแข่งขัน\n18.00 น.       มอบถ้วยรางวัลเกียรติยศ งานเลี้ยงสังสรรค์ และจับสลากรางวัล \nประเภทการแข่งขัน\nประเภททีม ทีมละ 4 ท่าน ไม่จำกัดเพศ อายุ ใช้ผลคะแนนรวมดีที่สุด 3 ท่าน \nรางวัลการแข่งขันประเภททีม \n\nชนะเลิศ :\nถ้วยพระราชทาน สมเด็จพระกนิษฐาธิราชเจ้า กรมสมเด็จพระเทพรัตนราชสุดาฯ สยามบรมราชกุมารี\nรองชนะเลิศ อันดับ 1 :\nถ้วยรางวัลเกียรติยศ ของศ. ดร. วิเลิศ ภูริวัชร อธิการบดี จุฬาลงกรณ์มหาวิทยาลัย\nรองชนะเลิศ อันดับ 2 :\nถ้วยรางวัลเกียรติยศ ของรศ. ดร. ธารทัศน์ โมกขมรรคกุล คณบดี คณะพาณิชยศาสตร์และการบัญชี จุฬาลงกรณ์มหาวิทยาลัย\n(ผู้เล่นในทีมทุกท่านจะได้รับถ้วยรางวัลเกียรติยศ)\n\nรางวัลประเภทบุคคล Overall Low Gross 1 รางวัล\, Flight A – C Flight ละ 3 รางวัล \nดาวโหลดโบวชัวร์เพื่ออ่านรายละเอียดเพิ่มเติมได้ที่ : https://bit.ly/3NnXfa2\nกรอกใบสมัครได้ที่ : https://bit.ly/4eGRZcT \nหมดเขตรับสมัคร 18 พฤศจิกายน 2567\nหมายเหตุ ทีมที่ชำระเงินก่อน มีสิทธิ์ก่อน \nรายได้ส่วนหนึ่งทูลเกล้าฯ ถวายสมเด็จพระกนิษฐาธิราชเจ้า กรมสมเด็จพระเทพรัตนราชสุดาฯ สยามบรมราชกุมารี โดยเสด็จพระราชกุศลตามพระราชอัธยาศัย และมอบเป็นทุนการศึกษาแก่นิสิตที่เรียนดีแต่ขาดแคลนทุนทรัพย์ และสนับสนุนกิจกรรมของสมาคมนิสิตเก่าคณะพาณิชยศาสตร์และการบัญชี แห่ง จุฬาลงกรณ์มหาวิทยาลัย \nสนใจสมัครร่วมกิจกรรม หรือ สอบถามรายละเอียดเพิ่มเติมได้ที่\nTel. 086-752-1748\, 02-218-5703\nEmail : contact@cbsalumni.com\nLINE ID : @shicualumni
URL:https://cbsalumni.com/event/shi-golf-2024/
LOCATION:สนามกอล์ฟริเวอร์เดล กอล์ฟ คลับ ปทุมธานี
END:VEVENT
END:VCALENDAR