BEGIN:VCALENDAR
VERSION:2.0
PRODID:-//สมาคมนิสิตเก่า คณะพาณิชยศาสตร์และการบัญชี แห่งจุฬาลงกรณ์มหาวิทยาลัย - ECPv5.2.1.1//NONSGML v1.0//EN
CALSCALE:GREGORIAN
METHOD:PUBLISH
X-WR-CALNAME:สมาคมนิสิตเก่า คณะพาณิชยศาสตร์และการบัญชี แห่งจุฬาลงกรณ์มหาวิทยาลัย
X-ORIGINAL-URL:https://cbsalumni.com
X-WR-CALDESC:Events for สมาคมนิสิตเก่า คณะพาณิชยศาสตร์และการบัญชี แห่งจุฬาลงกรณ์มหาวิทยาลัย
BEGIN:VTIMEZONE
TZID:Asia/Krasnoyarsk
BEGIN:STANDARD
TZOFFSETFROM:+0700
TZOFFSETTO:+0700
TZNAME:+07
DTSTART:20150101T000000
END:STANDARD
END:VTIMEZONE
BEGIN:VEVENT
DTSTART;VALUE=DATE:20151023
DTEND;VALUE=DATE:20151024
DTSTAMP:20260420T083551
CREATED:20201003T135336Z
LAST-MODIFIED:20201003T135336Z
UID:2499-1445558400-1445644799@cbsalumni.com
SUMMARY:พิธีวางพวงมาลาถวายสักการะพระบรมราชานุสาวรีย์สมเด็จพระปิยะมหาราช ประจำปี 2558
DESCRIPTION:วางพวงมาลาถวายสักการะพระบรมราชานุสาวรีย์สมเด็จพระปิยะมหาราช เนื่องในวันปิยมหาราช
URL:https://cbsalumni.com/event/wreath-laying-ceremony-for-king-piya-2015/
LOCATION:พระบรมราชานุสาวรีย์ 2 รัชกาล จุฬาลงกรณ์มหาวิทยาลัย
END:VEVENT
END:VCALENDAR