BEGIN:VCALENDAR
VERSION:2.0
PRODID:-//สมาคมนิสิตเก่า คณะพาณิชยศาสตร์และการบัญชี แห่งจุฬาลงกรณ์มหาวิทยาลัย - ECPv5.2.1.1//NONSGML v1.0//EN
CALSCALE:GREGORIAN
METHOD:PUBLISH
X-WR-CALNAME:สมาคมนิสิตเก่า คณะพาณิชยศาสตร์และการบัญชี แห่งจุฬาลงกรณ์มหาวิทยาลัย
X-ORIGINAL-URL:https://cbsalumni.com
X-WR-CALDESC:Events for สมาคมนิสิตเก่า คณะพาณิชยศาสตร์และการบัญชี แห่งจุฬาลงกรณ์มหาวิทยาลัย
BEGIN:VTIMEZONE
TZID:Asia/Krasnoyarsk
BEGIN:STANDARD
TZOFFSETFROM:+0800
TZOFFSETTO:+0700
TZNAME:+07
DTSTART:20141025T180000
END:STANDARD
END:VTIMEZONE
BEGIN:VEVENT
DTSTART;VALUE=DATE:20141023
DTEND;VALUE=DATE:20141024
DTSTAMP:20260420T030435
CREATED:20200925T045301Z
LAST-MODIFIED:20201003T082744Z
UID:1589-1414022400-1414108799@cbsalumni.com
SUMMARY:พิธีวางพวงมาลาถวายสักการะพระบรมราชานุสาวรีย์สมเด็จพระปิยะมหาราช ประจำปี 2557
DESCRIPTION:วางพวงมาลาถวายสักการะพระบรมราชานุสาวรีย์สมเด็จพระปิยะมหาราช เนื่องในวันปิยมหาราช
URL:https://cbsalumni.com/event/wreath-laying-ceremony-for-king-piya-2014/
LOCATION:พระบรมราชานุสาวรีย์ 2 รัชกาล จุฬาลงกรณ์มหาวิทยาลัย
END:VEVENT
END:VCALENDAR