BEGIN:VCALENDAR
VERSION:2.0
PRODID:-//สมาคมนิสิตเก่า คณะพาณิชยศาสตร์และการบัญชี แห่งจุฬาลงกรณ์มหาวิทยาลัย - ECPv5.2.1.1//NONSGML v1.0//EN
CALSCALE:GREGORIAN
METHOD:PUBLISH
X-WR-CALNAME:สมาคมนิสิตเก่า คณะพาณิชยศาสตร์และการบัญชี แห่งจุฬาลงกรณ์มหาวิทยาลัย
X-ORIGINAL-URL:https://cbsalumni.com
X-WR-CALDESC:Events for สมาคมนิสิตเก่า คณะพาณิชยศาสตร์และการบัญชี แห่งจุฬาลงกรณ์มหาวิทยาลัย
BEGIN:VTIMEZONE
TZID:Asia/Krasnoyarsk
BEGIN:STANDARD
TZOFFSETFROM:+0700
TZOFFSETTO:+0700
TZNAME:+07
DTSTART:20160101T000000
END:STANDARD
END:VTIMEZONE
BEGIN:VEVENT
DTSTART;VALUE=DATE:20160721
DTEND;VALUE=DATE:20160722
DTSTAMP:20260421T184047
CREATED:20201005T062339Z
LAST-MODIFIED:20201005T062339Z
UID:3004-1469059200-1469145599@cbsalumni.com
SUMMARY:พิธีบายศรีสู่ขวัญนิสิตใหม่ ประจำปี 2559
DESCRIPTION:ร่วมงานพิธีบายศรีสู่ขวัญนิสิตใหม่ รุ่น 77 ปีการศึกษา 2559 และสนับสนุนเงินจำนวน 20\,000 บาท โครงการ “เธอคือสำเภาลำใหม่”
URL:https://cbsalumni.com/event/welcome-ceremony-for-new-student-2016/
LOCATION:ฝ่ายกิจกรรมนิสิต
END:VEVENT
END:VCALENDAR