BEGIN:VCALENDAR
VERSION:2.0
PRODID:-//สมาคมนิสิตเก่า คณะพาณิชยศาสตร์และการบัญชี แห่งจุฬาลงกรณ์มหาวิทยาลัย - ECPv5.2.1.1//NONSGML v1.0//EN
CALSCALE:GREGORIAN
METHOD:PUBLISH
X-WR-CALNAME:สมาคมนิสิตเก่า คณะพาณิชยศาสตร์และการบัญชี แห่งจุฬาลงกรณ์มหาวิทยาลัย
X-ORIGINAL-URL:https://cbsalumni.com
X-WR-CALDESC:Events for สมาคมนิสิตเก่า คณะพาณิชยศาสตร์และการบัญชี แห่งจุฬาลงกรณ์มหาวิทยาลัย
BEGIN:VTIMEZONE
TZID:Asia/Krasnoyarsk
BEGIN:STANDARD
TZOFFSETFROM:+0700
TZOFFSETTO:+0700
TZNAME:+07
DTSTART:20150101T000000
END:STANDARD
END:VTIMEZONE
BEGIN:VEVENT
DTSTART;VALUE=DATE:20150712
DTEND;VALUE=DATE:20150713
DTSTAMP:20260420T101032
CREATED:20201004T074842Z
LAST-MODIFIED:20201004T074842Z
UID:2589-1436659200-1436745599@cbsalumni.com
SUMMARY:พิธีบายศรีสู่ขวัญนิสิตใหม่ ประจำปี 2558
DESCRIPTION:ร่วมพิธีบายศรีสู่ขวัญนิสิตใหม่ ปีการศึกษา 2558 และสนับสนุนเงินจำนวน 20\,000 บาท โครงการ “เธอคือสำเภาลำใหม่”
URL:https://cbsalumni.com/event/welcome-ceremony-for-new-student-2015/
LOCATION:ฝ่ายกิจกรรมนิสิต
END:VEVENT
END:VCALENDAR