BEGIN:VCALENDAR
VERSION:2.0
PRODID:-//สมาคมนิสิตเก่า คณะพาณิชยศาสตร์และการบัญชี แห่งจุฬาลงกรณ์มหาวิทยาลัย - ECPv5.2.1.1//NONSGML v1.0//EN
CALSCALE:GREGORIAN
METHOD:PUBLISH
X-WR-CALNAME:สมาคมนิสิตเก่า คณะพาณิชยศาสตร์และการบัญชี แห่งจุฬาลงกรณ์มหาวิทยาลัย
X-ORIGINAL-URL:https://cbsalumni.com
X-WR-CALDESC:Events for สมาคมนิสิตเก่า คณะพาณิชยศาสตร์และการบัญชี แห่งจุฬาลงกรณ์มหาวิทยาลัย
BEGIN:VTIMEZONE
TZID:Asia/Krasnoyarsk
BEGIN:STANDARD
TZOFFSETFROM:+0700
TZOFFSETTO:+0700
TZNAME:+07
DTSTART:20230101T000000
END:STANDARD
END:VTIMEZONE
BEGIN:VEVENT
DTSTART;TZID=Asia/Krasnoyarsk:20230420T090000
DTEND;TZID=Asia/Krasnoyarsk:20230420T163000
DTSTAMP:20260425T103051
CREATED:20230321T043510Z
LAST-MODIFIED:20250401T094812Z
UID:4883-1681981200-1682008200@cbsalumni.com
SUMMARY:ขอเชิญร่วมอบรมทางวิชาการ “TFRS for NPAES (ปรับปรุง 2565): สาระสำคัญ ของการปรับปรุงและประเด็นที่น่าสนใจ”
DESCRIPTION:สมาคมนิสิตเก่าคณะพาณิชยศาสตร์และการบัญชี แห่ง จุฬาลงกรณ์มหาวิทยาลัย\nขอเชิญร่วมอบรมทางวิชาการ “TFRS for NPAES (ปรับปรุง 2565): สาระสำคัญ ของการปรับปรุงและประเด็นที่น่าสนใจ” \nวันพฤหัสบดีที่ 20 เมษายน 2566 เวลา 09:00-16:30 น.\nณ ห้องคอนเวนชั่น AB ชั้น 1 โรงแรมแอมบาสซาเดอร์ สุขุมวิท 11 กรุงเทพฯ \nวิทยาการโดย : \n\nรศ.ดร.วรศักดิ์ ทุมมานนท์\nอาจารย์ประจำภาควิชาการบัญชี คณะพาณิชยศาสตร์และการบัญชี จุฬาลงกรณ์มหาวิทยาลัย และ\nประธานคณะกรรมการกำหนดมาตรฐานการบัญชี สภาวิชาชีพบัญชี ในพระบรมราชูปถัมภ์\nผศ.ดร.สันสกฤต วิจิตรเลขการ\nอาจารย์ประจำภาควิชาการบัญชี คณะพาณิชยศาสตร์และการบัญชี จุฬาลงกรณ์มหาวิทยาลัย และ\nกรรมการกำหนดมาตรฐานการบัญชี สภาวิชาชีพบัญชี ในพระบรมราชูปถัมภ์\n\nกำหนดการและหัวข้อการบรรยาย \n\n\n\n08:30-09:00 น.\nลงทะเบียน\n\n\n09:00-10:30 น.\n\n\nวัตถุประสงค์การปรับปรุง\nสาระสำคัญของการเปลี่ยนแปลง: ขอบเขตกรอบแนวคิด การนำเสนองบการเงิน และการเปลี่ยนแปลงนโยบายการบัญชี\nการเปลี่ยนแปลงประมาณการทางบัญชีและข้อผิดพลาด\nสาระสำคัญของการเปลี่ยนแปลง: เงินสดและรายการเทียบเท่าเงินสด ลูกหนี้ และสินค้าคงเหลือ\n\n\n\n\n10:45-12:00 น.\n\n\nสาระสำคัญของการเปลี่ยนแปลง: เงินลงทุน ที่ดิน อาคารและอุปกรณ์\nสินทรัพย์ไม่มีตัวตนและอสังหาริมทรัพย์เพื่อการลงทุน\n\n\n\n\n13:00-14:30 น.\n\n\nสาระสำคัญของการเปลี่ยนแปลง: ประมาณการหนี้สิน หนี้สินที่อาจเกิดขึ้น และสินทรัพย์ที่อาจเกิดขึ้น\nรายได้ และผลกระทบจากการเปลี่ยนแปลงของอัตราแลกเปลี่ยนเงินตราต่างประเทศ\nสาระสำคัญของบทใหม่ที่เพิ่มเติม: เกษตรกรรม และเงินอุดหนุนจากรัฐบาล\n\n\n\n\n14:45-16:30 น.\n\n\nสาระสำคัญของบทใหม่ที่เพิ่มเติม: อนุพันธ์ การรวมธุรกิจ การสำรวจและประเมินค่าแหล่งทรัพยากรแร่\nและข้อตกลงสัมทานบริก\nสรุปภาพรวมวิธีการปฏิบัติในช่วงเปลี่ยนผ่าน\nประเด็นเกี่ยวกับการเตรียมความพร้อมในการนำ TFRS for NPAEs (ปรับปรุง 2565) มาปฏิบัติใช้\n\n\n\n\nหมายเหตุ :\n\nรับประทานอาหารกลางวันเวลา 12:00-13:00 น.\nรับประทานอาหารว่างเวลา 10:30-10:45 น. และ 14:30-14:45 น.\n\n\n\n\nค่าอบรม:\nสมาชิกสมาคมฯ ท่านละ 1\,800 บาท (รวมภาษีมูลค่าเพิ่ม)\nบุคคลทั่วไป ท่านละ 2\,000 บาท (รวมภาษีมูลค่าเพิ่ม)\nการอบรมสามารถนับชั่วโมง CPD ด้านบัญชีได้ 6 ชั่วโมง ทั้งผู้สอบบัญชีและผู้ทำบัญชี \nสามารถดาวน์โหลดใบสมัคร ได้ที่นี่ \nส่งเอกสารใบสมัครพร้อมสลิปโอนเงินมาที่ contact@cbsalumni.com\nกำหนดรับสมัครตั้งแต่วันนี้จนถึง วันที่ 10 เมษายน 2566 หรือจนกว่าจะเต็ม \nสอบถามรายละเอียดข้อมูลเพิ่มเติมได้ที่ 02-218-5703\, 092-254-3171
URL:https://cbsalumni.com/event/tfrs-for-npaes-update-2022/
LOCATION:ณ ห้องคอนเวนชั่น AB ชั้น 1 โรงแรมแอมบาสซาเดอร์ สุขุมวิท 11 กรุงเทพฯ
END:VEVENT
END:VCALENDAR