BEGIN:VCALENDAR
VERSION:2.0
PRODID:-//สมาคมนิสิตเก่า คณะพาณิชยศาสตร์และการบัญชี แห่งจุฬาลงกรณ์มหาวิทยาลัย - ECPv5.2.1.1//NONSGML v1.0//EN
CALSCALE:GREGORIAN
METHOD:PUBLISH
X-WR-CALNAME:สมาคมนิสิตเก่า คณะพาณิชยศาสตร์และการบัญชี แห่งจุฬาลงกรณ์มหาวิทยาลัย
X-ORIGINAL-URL:https://cbsalumni.com
X-WR-CALDESC:Events for สมาคมนิสิตเก่า คณะพาณิชยศาสตร์และการบัญชี แห่งจุฬาลงกรณ์มหาวิทยาลัย
BEGIN:VTIMEZONE
TZID:Asia/Krasnoyarsk
BEGIN:STANDARD
TZOFFSETFROM:+0700
TZOFFSETTO:+0700
TZNAME:+07
DTSTART:20170101T000000
END:STANDARD
END:VTIMEZONE
BEGIN:VEVENT
DTSTART;VALUE=DATE:20170620
DTEND;VALUE=DATE:20170621
DTSTAMP:20260421T215858
CREATED:20201006T073608Z
LAST-MODIFIED:20201006T073608Z
UID:3198-1497916800-1498003199@cbsalumni.com
SUMMARY:รายการ “จิบน้ำชากับจอมยุทธ์” ครั้งที่ 3/2560
DESCRIPTION:จัดรายการ “จิบน้ำชากับจอมยุทธ์” โดย ดร.ลักขณา ลีละยุทธโยธิน CU 15 \nหัวข้อ “นวัตกรรมทางการตลาด” 
URL:https://cbsalumni.com/event/tea-sipping-with-jom-yuth-3-2017/
LOCATION:ฝ่ายวิชาการ
END:VEVENT
END:VCALENDAR