BEGIN:VCALENDAR
VERSION:2.0
PRODID:-//สมาคมนิสิตเก่า คณะพาณิชยศาสตร์และการบัญชี แห่งจุฬาลงกรณ์มหาวิทยาลัย - ECPv5.2.1.1//NONSGML v1.0//EN
CALSCALE:GREGORIAN
METHOD:PUBLISH
X-WR-CALNAME:สมาคมนิสิตเก่า คณะพาณิชยศาสตร์และการบัญชี แห่งจุฬาลงกรณ์มหาวิทยาลัย
X-ORIGINAL-URL:https://cbsalumni.com
X-WR-CALDESC:Events for สมาคมนิสิตเก่า คณะพาณิชยศาสตร์และการบัญชี แห่งจุฬาลงกรณ์มหาวิทยาลัย
BEGIN:VTIMEZONE
TZID:Asia/Krasnoyarsk
BEGIN:STANDARD
TZOFFSETFROM:+0700
TZOFFSETTO:+0700
TZNAME:+07
DTSTART:20160101T000000
END:STANDARD
END:VTIMEZONE
BEGIN:VEVENT
DTSTART;VALUE=DATE:20160621
DTEND;VALUE=DATE:20160622
DTSTAMP:20260421T201843
CREATED:20201005T024934Z
LAST-MODIFIED:20201005T024934Z
UID:2829-1466467200-1466553599@cbsalumni.com
SUMMARY:รายการ “จิบน้ำชากับแดจังกึม”
DESCRIPTION:จัดรายการ “จิบน้ำชากับแดจังกึม” โดย คุณประวิทย์ สันติวัฒนา MBA Executive รุ่น 8
URL:https://cbsalumni.com/event/tea-sipping-with-dae-jang-kum/
LOCATION:ฝ่ายวิชาการ
END:VEVENT
END:VCALENDAR