BEGIN:VCALENDAR
VERSION:2.0
PRODID:-//สมาคมนิสิตเก่า คณะพาณิชยศาสตร์และการบัญชี แห่งจุฬาลงกรณ์มหาวิทยาลัย - ECPv5.2.1.1//NONSGML v1.0//EN
CALSCALE:GREGORIAN
METHOD:PUBLISH
X-WR-CALNAME:สมาคมนิสิตเก่า คณะพาณิชยศาสตร์และการบัญชี แห่งจุฬาลงกรณ์มหาวิทยาลัย
X-ORIGINAL-URL:https://cbsalumni.com
X-WR-CALDESC:Events for สมาคมนิสิตเก่า คณะพาณิชยศาสตร์และการบัญชี แห่งจุฬาลงกรณ์มหาวิทยาลัย
BEGIN:VTIMEZONE
TZID:Asia/Krasnoyarsk
BEGIN:STANDARD
TZOFFSETFROM:+0700
TZOFFSETTO:+0700
TZNAME:+07
DTSTART:20180101T000000
END:STANDARD
END:VTIMEZONE
BEGIN:VEVENT
DTSTART;VALUE=DATE:20180902
DTEND;VALUE=DATE:20180903
DTSTAMP:20260419T204247
CREATED:20201007T040112Z
LAST-MODIFIED:20201007T040112Z
UID:3506-1535846400-1535932799@cbsalumni.com
SUMMARY:สานสัมพันธ์โบว์ลิ่งสามัคคี SHI-BOWLS 18
DESCRIPTION:จัดกิจกรรมโบว์ลิ่งการกุศล ประจำปี 2561\nมีทีมเข้าร่วมการแข่งขัน 55 ทีม รายได้สุทธิหลังหักค่าใช้จ่าย จำนวนเงิน 0.39 ล้านบาท
URL:https://cbsalumni.com/event/shi-bowls-for-charity-2018/
LOCATION:ฝ่ายกิจกรรมสมาชิก และกิจกรรมหารายได้
END:VEVENT
END:VCALENDAR