BEGIN:VCALENDAR
VERSION:2.0
PRODID:-//สมาคมนิสิตเก่า คณะพาณิชยศาสตร์และการบัญชี แห่งจุฬาลงกรณ์มหาวิทยาลัย - ECPv5.2.1.1//NONSGML v1.0//EN
CALSCALE:GREGORIAN
METHOD:PUBLISH
X-WR-CALNAME:สมาคมนิสิตเก่า คณะพาณิชยศาสตร์และการบัญชี แห่งจุฬาลงกรณ์มหาวิทยาลัย
X-ORIGINAL-URL:https://cbsalumni.com
X-WR-CALDESC:Events for สมาคมนิสิตเก่า คณะพาณิชยศาสตร์และการบัญชี แห่งจุฬาลงกรณ์มหาวิทยาลัย
BEGIN:VTIMEZONE
TZID:Asia/Krasnoyarsk
BEGIN:STANDARD
TZOFFSETFROM:+0700
TZOFFSETTO:+0700
TZNAME:+07
DTSTART:20170101T000000
END:STANDARD
END:VTIMEZONE
BEGIN:VEVENT
DTSTART;VALUE=DATE:20170827
DTEND;VALUE=DATE:20170828
DTSTAMP:20260421T184522
CREATED:20201006T082234Z
LAST-MODIFIED:20201006T082234Z
UID:3250-1503792000-1503878399@cbsalumni.com
SUMMARY:สานสัมพันธ์โบว์ลิ่งสามัคคี SHI-BOWLS 17
DESCRIPTION:จัดกิจกรรมโบว์ลิ่งการกุศล ประจำปี 2560\nทีมเข้าร่วมการแข่งขัน 54 ทีม รายได้สุทธิหลังหักค่าใช้จ่าย จำนวนเงิน 0.47 ล้านบาท
URL:https://cbsalumni.com/event/shi-bowls-for-charity-2017/
LOCATION:ฝ่ายวิชาการ และฝ่ายกิจกรรมหารายได้
END:VEVENT
END:VCALENDAR