BEGIN:VCALENDAR
VERSION:2.0
PRODID:-//สมาคมนิสิตเก่า คณะพาณิชยศาสตร์และการบัญชี แห่งจุฬาลงกรณ์มหาวิทยาลัย - ECPv5.2.1.1//NONSGML v1.0//EN
CALSCALE:GREGORIAN
METHOD:PUBLISH
X-WR-CALNAME:สมาคมนิสิตเก่า คณะพาณิชยศาสตร์และการบัญชี แห่งจุฬาลงกรณ์มหาวิทยาลัย
X-ORIGINAL-URL:https://cbsalumni.com
X-WR-CALDESC:Events for สมาคมนิสิตเก่า คณะพาณิชยศาสตร์และการบัญชี แห่งจุฬาลงกรณ์มหาวิทยาลัย
BEGIN:VTIMEZONE
TZID:Asia/Krasnoyarsk
BEGIN:STANDARD
TZOFFSETFROM:+0700
TZOFFSETTO:+0800
TZNAME:+08
DTSTART:20110326T190000
END:STANDARD
END:VTIMEZONE
BEGIN:VEVENT
DTSTART;TZID=Asia/Krasnoyarsk:20110731T080000
DTEND;TZID=Asia/Krasnoyarsk:20110731T170000
DTSTAMP:20260419T234421
CREATED:20200923T081257Z
LAST-MODIFIED:20201002T164217Z
UID:1223-1312099200-1312131600@cbsalumni.com
SUMMARY:สานสัมพันธ์โบว์ลิ่งสามัคคี SHI-BOWLS 11
DESCRIPTION:ภาพกิจกรรมสานสัมพันธ์โบว์ลิ่งสามัคคี 2011
URL:https://cbsalumni.com/event/shi-bowls-11/
LOCATION:ฝ่ายกิจกรรมสมาชิก และฝ่ายประชาสัมพันธ์
END:VEVENT
END:VCALENDAR