BEGIN:VCALENDAR
VERSION:2.0
PRODID:-//สมาคมนิสิตเก่า คณะพาณิชยศาสตร์และการบัญชี แห่งจุฬาลงกรณ์มหาวิทยาลัย - ECPv5.2.1.1//NONSGML v1.0//EN
CALSCALE:GREGORIAN
METHOD:PUBLISH
X-WR-CALNAME:สมาคมนิสิตเก่า คณะพาณิชยศาสตร์และการบัญชี แห่งจุฬาลงกรณ์มหาวิทยาลัย
X-ORIGINAL-URL:https://cbsalumni.com
X-WR-CALDESC:Events for สมาคมนิสิตเก่า คณะพาณิชยศาสตร์และการบัญชี แห่งจุฬาลงกรณ์มหาวิทยาลัย
BEGIN:VTIMEZONE
TZID:Asia/Krasnoyarsk
BEGIN:STANDARD
TZOFFSETFROM:+0700
TZOFFSETTO:+0800
TZNAME:+08
DTSTART:20110326T190000
END:STANDARD
END:VTIMEZONE
BEGIN:VEVENT
DTSTART;VALUE=DATE:20110923
DTEND;VALUE=DATE:20110924
DTSTAMP:20260420T025142
CREATED:20200923T072412Z
LAST-MODIFIED:20201002T160516Z
UID:1184-1316736000-1316822399@cbsalumni.com
SUMMARY:การอบรมสัมมนาด้านภาษีและมาตรฐานบัญชี ครั้งที่ 3/2554
DESCRIPTION:ฝ่ายวิชาการ ได้จัดการอบรมสัมมนาด้านภาษีและมาตรฐานบัญชี จำนวน 3 ครั้ง ซึ่งผู้เข้าร่วมการอบรมกับทางสมาคมฯ สามารถนับชั่วโมงการอบรมได้ ทั้งผู้สอบบัญชีรับอนุญาต (CPA) และผู้ทำบัญชี (CPD) \nครั้งที่ 3 หัวข้อ “มาตรฐานการรายงานทางการเงินสำหรับกิจการที่ไม่มีส่วนได้เสียสาธารณะ (TFRSs for NPAE-Non Publicly Accountable Entities)” \nมีผู้เข้าร่วมอบรม จำนวน 218 คน
URL:https://cbsalumni.com/event/seminar-on-taxation-and-accounting-standard-3-2011/
LOCATION:ฝ่ายวิชาการ
END:VEVENT
END:VCALENDAR