BEGIN:VCALENDAR
VERSION:2.0
PRODID:-//สมาคมนิสิตเก่า คณะพาณิชยศาสตร์และการบัญชี แห่งจุฬาลงกรณ์มหาวิทยาลัย - ECPv5.2.1.1//NONSGML v1.0//EN
CALSCALE:GREGORIAN
METHOD:PUBLISH
X-WR-CALNAME:สมาคมนิสิตเก่า คณะพาณิชยศาสตร์และการบัญชี แห่งจุฬาลงกรณ์มหาวิทยาลัย
X-ORIGINAL-URL:https://cbsalumni.com
X-WR-CALDESC:Events for สมาคมนิสิตเก่า คณะพาณิชยศาสตร์และการบัญชี แห่งจุฬาลงกรณ์มหาวิทยาลัย
BEGIN:VTIMEZONE
TZID:Asia/Krasnoyarsk
BEGIN:STANDARD
TZOFFSETFROM:+0700
TZOFFSETTO:+0800
TZNAME:+08
DTSTART:20110326T190000
END:STANDARD
END:VTIMEZONE
BEGIN:VEVENT
DTSTART;VALUE=DATE:20110728
DTEND;VALUE=DATE:20110729
DTSTAMP:20260420T005934
CREATED:20200923T071529Z
LAST-MODIFIED:20201002T164739Z
UID:1173-1311811200-1311897599@cbsalumni.com
SUMMARY:การอบรมสัมมนาด้านภาษีและมาตรฐานบัญชี ครั้งที่ 1/2554
DESCRIPTION:ฝ่ายวิชาการ ได้จัดการอบรมสัมมนาด้านภาษีและมาตรฐานบัญชี จำนวน 3 ครั้ง ซึ่งผู้เข้าร่วมการอบรมกับทางสมาคมฯ สามารถนับชั่วโมงการอบรมได้ ทั้งผู้สอบบัญชีรับอนุญาต (CPA) และผู้ทำบัญชี (CPD) \nครั้งที่ 1 หัวข้อ “PPE มาตรฐานการบัญชีฉบับที่ 16 (ปรับปรุง 2552) ที่ดิน อาคาร และอุปกรณ์ (Property Plant & Equipment)”  \nมีผู้เข้าร่วมอบรม จำนวน 162 คน
URL:https://cbsalumni.com/event/seminar-on-taxation-and-accounting-standard-1-2011/
LOCATION:ฝ่ายวิชาการ
END:VEVENT
END:VCALENDAR