BEGIN:VCALENDAR
VERSION:2.0
PRODID:-//สมาคมนิสิตเก่า คณะพาณิชยศาสตร์และการบัญชี แห่งจุฬาลงกรณ์มหาวิทยาลัย - ECPv5.2.1.1//NONSGML v1.0//EN
CALSCALE:GREGORIAN
METHOD:PUBLISH
X-WR-CALNAME:สมาคมนิสิตเก่า คณะพาณิชยศาสตร์และการบัญชี แห่งจุฬาลงกรณ์มหาวิทยาลัย
X-ORIGINAL-URL:https://cbsalumni.com
X-WR-CALDESC:Events for สมาคมนิสิตเก่า คณะพาณิชยศาสตร์และการบัญชี แห่งจุฬาลงกรณ์มหาวิทยาลัย
BEGIN:VTIMEZONE
TZID:Asia/Krasnoyarsk
BEGIN:STANDARD
TZOFFSETFROM:+0700
TZOFFSETTO:+0800
TZNAME:+08
DTSTART:20110326T190000
END:STANDARD
END:VTIMEZONE
BEGIN:VEVENT
DTSTART;TZID=Asia/Krasnoyarsk:20110616T080000
DTEND;TZID=Asia/Krasnoyarsk:20110616T170000
DTSTAMP:20260421T184012
CREATED:20200923T044036Z
LAST-MODIFIED:20201002T165633Z
UID:1136-1308211200-1308243600@cbsalumni.com
SUMMARY:การจัดเสวนาโต๊ะกลม ครั้งที่ 2/2554
DESCRIPTION:การจัดเสวนาโต๊ะกลม เริ่มมาตั้งแต่ปี 2551 และในปี 2554 ฝ่ายวิชาการ ก็ยังคงดำเนินการจัดเสวนาโต๊ะกลม เป็นปีที่ 4 ซึ่งก็ได้จัดขึ้นทั้งหมด 6 ครั้ง ในแต่ละครั้งก็ได้รับเกียรติจากนิสิตเก่าที่มากด้วยประสบการณ์มาเป็นวิทยากร ซึ่งการเสวนาแต่ละครั้งได้รับการตอบรับเป็นอย่างดี \nครั้งที่ 2 หัวข้อ “น้ำมันรำข้าว Olive Oli Of Asia ที่ฝรั่งชอบใช้ คนไทยนิยม” 
URL:https://cbsalumni.com/event/roundtable-discussion-2-in-2011/
LOCATION:ฝ่ายวิชาการ
END:VEVENT
END:VCALENDAR