BEGIN:VCALENDAR
VERSION:2.0
PRODID:-//สมาคมนิสิตเก่า คณะพาณิชยศาสตร์และการบัญชี แห่งจุฬาลงกรณ์มหาวิทยาลัย - ECPv5.2.1.1//NONSGML v1.0//EN
CALSCALE:GREGORIAN
METHOD:PUBLISH
X-WR-CALNAME:สมาคมนิสิตเก่า คณะพาณิชยศาสตร์และการบัญชี แห่งจุฬาลงกรณ์มหาวิทยาลัย
X-ORIGINAL-URL:https://cbsalumni.com
X-WR-CALDESC:Events for สมาคมนิสิตเก่า คณะพาณิชยศาสตร์และการบัญชี แห่งจุฬาลงกรณ์มหาวิทยาลัย
BEGIN:VTIMEZONE
TZID:Asia/Krasnoyarsk
BEGIN:STANDARD
TZOFFSETFROM:+0700
TZOFFSETTO:+0700
TZNAME:+07
DTSTART:20160101T000000
END:STANDARD
END:VTIMEZONE
BEGIN:VEVENT
DTSTART;VALUE=DATE:20160711
DTEND;VALUE=DATE:20160712
DTSTAMP:20260421T201826
CREATED:20201005T082714Z
LAST-MODIFIED:20201005T082914Z
UID:3117-1468195200-1468281599@cbsalumni.com
SUMMARY:โครงการ “เปิดฟ้าบัญชี” ประจำปี 2559
DESCRIPTION:ร่วมกิจกรรม “เปิดฟ้าบัญชี” นิสิตใหม่ ปีการศึกษา 2559 (รุ่น 77)
URL:https://cbsalumni.com/event/pherd-fah-bhanshi-project-2016/
LOCATION:คณะพาณิชยศาสตร์และการบัญชี  จุฬาฯ
END:VEVENT
END:VCALENDAR