BEGIN:VCALENDAR
VERSION:2.0
PRODID:-//สมาคมนิสิตเก่า คณะพาณิชยศาสตร์และการบัญชี แห่งจุฬาลงกรณ์มหาวิทยาลัย - ECPv5.2.1.1//NONSGML v1.0//EN
CALSCALE:GREGORIAN
METHOD:PUBLISH
X-WR-CALNAME:สมาคมนิสิตเก่า คณะพาณิชยศาสตร์และการบัญชี แห่งจุฬาลงกรณ์มหาวิทยาลัย
X-ORIGINAL-URL:https://cbsalumni.com
X-WR-CALDESC:Events for สมาคมนิสิตเก่า คณะพาณิชยศาสตร์และการบัญชี แห่งจุฬาลงกรณ์มหาวิทยาลัย
BEGIN:VTIMEZONE
TZID:Asia/Krasnoyarsk
BEGIN:STANDARD
TZOFFSETFROM:+0800
TZOFFSETTO:+0800
TZNAME:+08
DTSTART:20130101T000000
END:STANDARD
END:VTIMEZONE
BEGIN:VEVENT
DTSTART;VALUE=DATE:20130919
DTEND;VALUE=DATE:20130920
DTSTAMP:20260421T201731
CREATED:20200925T042056Z
LAST-MODIFIED:20201003T091127Z
UID:1565-1379548800-1379635199@cbsalumni.com
SUMMARY:งานแสดงมุทิตาจิต ประจำปี 2556
DESCRIPTION:ร่วมงานแสดงมุทิตาจิตต่อคณาจารย์ และบุคลากร ที่เกษียณอายุราชการของคณะฯ ประจำปี 2556
URL:https://cbsalumni.com/event/muthita-ceremony-for-retirement-2013/
LOCATION:จุฬาลงกรณ์มหาวิทยาลัย
END:VEVENT
END:VCALENDAR