BEGIN:VCALENDAR
VERSION:2.0
PRODID:-//สมาคมนิสิตเก่า คณะพาณิชยศาสตร์และการบัญชี แห่งจุฬาลงกรณ์มหาวิทยาลัย - ECPv5.2.1.1//NONSGML v1.0//EN
CALSCALE:GREGORIAN
METHOD:PUBLISH
X-WR-CALNAME:สมาคมนิสิตเก่า คณะพาณิชยศาสตร์และการบัญชี แห่งจุฬาลงกรณ์มหาวิทยาลัย
X-ORIGINAL-URL:https://cbsalumni.com
X-WR-CALDESC:Events for สมาคมนิสิตเก่า คณะพาณิชยศาสตร์และการบัญชี แห่งจุฬาลงกรณ์มหาวิทยาลัย
BEGIN:VTIMEZONE
TZID:Asia/Krasnoyarsk
BEGIN:STANDARD
TZOFFSETFROM:+0800
TZOFFSETTO:+0700
TZNAME:+07
DTSTART:20141025T180000
END:STANDARD
END:VTIMEZONE
BEGIN:VEVENT
DTSTART;VALUE=DATE:20140817
DTEND;VALUE=DATE:20140818
DTSTAMP:20260420T060740
CREATED:20200925T080140Z
LAST-MODIFIED:20201003T085613Z
UID:1654-1408233600-1408319999@cbsalumni.com
SUMMARY:ทำบุญเลี้ยงพระ เนื่องในโอกาสครบรอบ 52 ปี ของการก่อตั้งสมาคมฯ
DESCRIPTION:จัดงานทำบุญเลี้ยงพระประจำปี เนื่องในโอกาสครบรอบ 52 ปี ของการก่อตั้งสมาคมฯ
URL:https://cbsalumni.com/event/merit-making-ceremony-for-celebrate-52th-anniversary-of-founding/
LOCATION:ฝ่ายเลขาธิการ
END:VEVENT
END:VCALENDAR