BEGIN:VCALENDAR
VERSION:2.0
PRODID:-//สมาคมนิสิตเก่า คณะพาณิชยศาสตร์และการบัญชี แห่งจุฬาลงกรณ์มหาวิทยาลัย - ECPv5.2.1.1//NONSGML v1.0//EN
CALSCALE:GREGORIAN
METHOD:PUBLISH
X-WR-CALNAME:สมาคมนิสิตเก่า คณะพาณิชยศาสตร์และการบัญชี แห่งจุฬาลงกรณ์มหาวิทยาลัย
X-ORIGINAL-URL:https://cbsalumni.com
X-WR-CALDESC:Events for สมาคมนิสิตเก่า คณะพาณิชยศาสตร์และการบัญชี แห่งจุฬาลงกรณ์มหาวิทยาลัย
BEGIN:VTIMEZONE
TZID:Asia/Krasnoyarsk
BEGIN:STANDARD
TZOFFSETFROM:+0700
TZOFFSETTO:+0700
TZNAME:+07
DTSTART:20170101T000000
END:STANDARD
END:VTIMEZONE
BEGIN:VEVENT
DTSTART;VALUE=DATE:20170723
DTEND;VALUE=DATE:20170724
DTSTAMP:20260421T201929
CREATED:20201006T142624Z
LAST-MODIFIED:20201006T142624Z
UID:3360-1500768000-1500854399@cbsalumni.com
SUMMARY:วันพบผู้ปกครองนิสิตใหม่ ปีการศึกษา 2560
DESCRIPTION:ร่วมงานและแสดงความยินดีแก่ผู้ปกครองนิสิตใหม่ ในวันพบผู้ปกครองนิสิตใหม่ ปีการศึกษา 2560
URL:https://cbsalumni.com/event/meeting-with-parents-of-new-student-2017/
LOCATION:คณะพาณิชยศาสตร์และการบัญชี  จุฬาฯ
END:VEVENT
END:VCALENDAR