BEGIN:VCALENDAR
VERSION:2.0
PRODID:-//สมาคมนิสิตเก่า คณะพาณิชยศาสตร์และการบัญชี แห่งจุฬาลงกรณ์มหาวิทยาลัย - ECPv5.2.1.1//NONSGML v1.0//EN
CALSCALE:GREGORIAN
METHOD:PUBLISH
X-WR-CALNAME:สมาคมนิสิตเก่า คณะพาณิชยศาสตร์และการบัญชี แห่งจุฬาลงกรณ์มหาวิทยาลัย
X-ORIGINAL-URL:https://cbsalumni.com
X-WR-CALDESC:Events for สมาคมนิสิตเก่า คณะพาณิชยศาสตร์และการบัญชี แห่งจุฬาลงกรณ์มหาวิทยาลัย
BEGIN:VTIMEZONE
TZID:Asia/Krasnoyarsk
BEGIN:STANDARD
TZOFFSETFROM:+0700
TZOFFSETTO:+0700
TZNAME:+07
DTSTART:20150101T000000
END:STANDARD
END:VTIMEZONE
BEGIN:VEVENT
DTSTART;VALUE=DATE:20150712
DTEND;VALUE=DATE:20150713
DTSTAMP:20260420T114023
CREATED:20201004T093906Z
LAST-MODIFIED:20201004T093906Z
UID:2724-1436659200-1436745599@cbsalumni.com
SUMMARY:วันพบผู้ปกครองนิสิตใหม่ ปีการศึกษา 2558
DESCRIPTION:ร่วมแสดงความยินดีแก่ผู้ปกครองนิสิตใหม่ ในวันพบผู้ปกครองนิสิตใหม่ ปีการศึกษา 2558
URL:https://cbsalumni.com/event/meeting-with-parents-of-new-student-2015/
LOCATION:จุฬาลงกรณ์มหาวิทยาลัย
END:VEVENT
END:VCALENDAR