BEGIN:VCALENDAR
VERSION:2.0
PRODID:-//สมาคมนิสิตเก่า คณะพาณิชยศาสตร์และการบัญชี แห่งจุฬาลงกรณ์มหาวิทยาลัย - ECPv5.2.1.1//NONSGML v1.0//EN
CALSCALE:GREGORIAN
METHOD:PUBLISH
X-WR-CALNAME:สมาคมนิสิตเก่า คณะพาณิชยศาสตร์และการบัญชี แห่งจุฬาลงกรณ์มหาวิทยาลัย
X-ORIGINAL-URL:https://cbsalumni.com
X-WR-CALDESC:Events for สมาคมนิสิตเก่า คณะพาณิชยศาสตร์และการบัญชี แห่งจุฬาลงกรณ์มหาวิทยาลัย
BEGIN:VTIMEZONE
TZID:Asia/Krasnoyarsk
BEGIN:STANDARD
TZOFFSETFROM:+0800
TZOFFSETTO:+0700
TZNAME:+07
DTSTART:20141025T180000
END:STANDARD
END:VTIMEZONE
BEGIN:VEVENT
DTSTART;VALUE=DATE:20140720
DTEND;VALUE=DATE:20140721
DTSTAMP:20260420T041613
CREATED:20200925T092450Z
LAST-MODIFIED:20201003T085947Z
UID:1713-1405814400-1405900799@cbsalumni.com
SUMMARY:วันพบผู้ปกครองนิสิตใหม่ ปีการศึกษา 2557
DESCRIPTION:ร่วมแสดงความยินดีแก่ผู้ปกครองนิสิตใหม่ ในวันพบผู้ปกครองนิสิตใหม่ ปีการศึกษา 2557
URL:https://cbsalumni.com/event/meeting-with-parents-of-new-student-2014/
LOCATION:จุฬาลงกรณ์มหาวิทยาลัย
END:VEVENT
END:VCALENDAR