BEGIN:VCALENDAR
VERSION:2.0
PRODID:-//สมาคมนิสิตเก่า คณะพาณิชยศาสตร์และการบัญชี แห่งจุฬาลงกรณ์มหาวิทยาลัย - ECPv5.2.1.1//NONSGML v1.0//EN
CALSCALE:GREGORIAN
METHOD:PUBLISH
X-WR-CALNAME:สมาคมนิสิตเก่า คณะพาณิชยศาสตร์และการบัญชี แห่งจุฬาลงกรณ์มหาวิทยาลัย
X-ORIGINAL-URL:https://cbsalumni.com
X-WR-CALDESC:Events for สมาคมนิสิตเก่า คณะพาณิชยศาสตร์และการบัญชี แห่งจุฬาลงกรณ์มหาวิทยาลัย
BEGIN:VTIMEZONE
TZID:Asia/Krasnoyarsk
BEGIN:STANDARD
TZOFFSETFROM:+0700
TZOFFSETTO:+0700
TZNAME:+07
DTSTART:20160101T000000
END:STANDARD
END:VTIMEZONE
BEGIN:VEVENT
DTSTART;VALUE=DATE:20161021
DTEND;VALUE=DATE:20161022
DTSTAMP:20260421T201823
CREATED:20201005T084440Z
LAST-MODIFIED:20201005T084440Z
UID:3136-1477008000-1477094399@cbsalumni.com
SUMMARY:วันพระราชทานปริญญาบัตร ประจำปีการศึกษา 2558
DESCRIPTION:ร่วมจัดกิจกรรมแสดงความยินดีแก่บัณฑิต รุ่น 73 และมหาบัณฑิต เนื่องในวันพระราชทานปริญญาบัตร ประจำปีการศึกษา 2558
URL:https://cbsalumni.com/event/graduation-ceremony-of-2015/
LOCATION:คณะพาณิชยศาสตร์และการบัญชี  จุฬาฯ
END:VEVENT
END:VCALENDAR