BEGIN:VCALENDAR
VERSION:2.0
PRODID:-//สมาคมนิสิตเก่า คณะพาณิชยศาสตร์และการบัญชี แห่งจุฬาลงกรณ์มหาวิทยาลัย - ECPv5.2.1.1//NONSGML v1.0//EN
CALSCALE:GREGORIAN
METHOD:PUBLISH
X-WR-CALNAME:สมาคมนิสิตเก่า คณะพาณิชยศาสตร์และการบัญชี แห่งจุฬาลงกรณ์มหาวิทยาลัย
X-ORIGINAL-URL:https://cbsalumni.com
X-WR-CALDESC:Events for สมาคมนิสิตเก่า คณะพาณิชยศาสตร์และการบัญชี แห่งจุฬาลงกรณ์มหาวิทยาลัย
BEGIN:VTIMEZONE
TZID:Asia/Krasnoyarsk
BEGIN:STANDARD
TZOFFSETFROM:+0800
TZOFFSETTO:+0700
TZNAME:+07
DTSTART:20141025T180000
END:STANDARD
END:VTIMEZONE
BEGIN:VEVENT
DTSTART;VALUE=DATE:20140704
DTEND;VALUE=DATE:20140705
DTSTAMP:20260420T012422
CREATED:20200925T090001Z
LAST-MODIFIED:20201004T094042Z
UID:1698-1404432000-1404518399@cbsalumni.com
SUMMARY:วันพระราชทานปริญญาบัตร ปีการศึกษา 2556
DESCRIPTION:ร่วมจัดกิจกรรมแสดงความยินดีแก่บัณฑิต รุ่น 71 และมหาบัณฑิต เนื่องในวันพระราชทานปริญญาบัตร ปีการศึกษา 2556
URL:https://cbsalumni.com/event/graduation-ceremony-of-2013/
LOCATION:จุฬาลงกรณ์มหาวิทยาลัย
END:VEVENT
END:VCALENDAR