BEGIN:VCALENDAR
VERSION:2.0
PRODID:-//สมาคมนิสิตเก่า คณะพาณิชยศาสตร์และการบัญชี แห่งจุฬาลงกรณ์มหาวิทยาลัย - ECPv5.2.1.1//NONSGML v1.0//EN
CALSCALE:GREGORIAN
METHOD:PUBLISH
X-WR-CALNAME:สมาคมนิสิตเก่า คณะพาณิชยศาสตร์และการบัญชี แห่งจุฬาลงกรณ์มหาวิทยาลัย
X-ORIGINAL-URL:https://cbsalumni.com
X-WR-CALDESC:Events for สมาคมนิสิตเก่า คณะพาณิชยศาสตร์และการบัญชี แห่งจุฬาลงกรณ์มหาวิทยาลัย
BEGIN:VTIMEZONE
TZID:Asia/Krasnoyarsk
BEGIN:STANDARD
TZOFFSETFROM:+0700
TZOFFSETTO:+0800
TZNAME:+08
DTSTART:20110326T190000
END:STANDARD
END:VTIMEZONE
BEGIN:VEVENT
DTSTART;VALUE=DATE:20110706
DTEND;VALUE=DATE:20110708
DTSTAMP:20260419T220805
CREATED:20200923T084149Z
LAST-MODIFIED:20201002T165249Z
UID:1243-1309910400-1310083199@cbsalumni.com
SUMMARY:วันพระราชทานปริญญาบัตร ประจำปีการศึกษา 2553 
DESCRIPTION:ร่วมจัดกิจกรรมแสดงความยินดีแก่บัณฑิตและมหาบัณฑิต เนื่องในวันพระราชทานปริญญาบัตร ประจำปีการศึกษา 2553
URL:https://cbsalumni.com/event/graduation-ceremony-of-2010/
LOCATION:ฝ่ายกิจกรรมนิสิต
END:VEVENT
END:VCALENDAR