BEGIN:VCALENDAR
VERSION:2.0
PRODID:-//สมาคมนิสิตเก่า คณะพาณิชยศาสตร์และการบัญชี แห่งจุฬาลงกรณ์มหาวิทยาลัย - ECPv5.2.1.1//NONSGML v1.0//EN
CALSCALE:GREGORIAN
METHOD:PUBLISH
X-WR-CALNAME:สมาคมนิสิตเก่า คณะพาณิชยศาสตร์และการบัญชี แห่งจุฬาลงกรณ์มหาวิทยาลัย
X-ORIGINAL-URL:https://cbsalumni.com
X-WR-CALDESC:Events for สมาคมนิสิตเก่า คณะพาณิชยศาสตร์และการบัญชี แห่งจุฬาลงกรณ์มหาวิทยาลัย
BEGIN:VTIMEZONE
TZID:Asia/Krasnoyarsk
BEGIN:STANDARD
TZOFFSETFROM:+0700
TZOFFSETTO:+0700
TZNAME:+07
DTSTART:20150101T000000
END:STANDARD
END:VTIMEZONE
BEGIN:VEVENT
DTSTART;VALUE=DATE:20151124
DTEND;VALUE=DATE:20151125
DTSTAMP:20260420T113908
CREATED:20201004T091116Z
LAST-MODIFIED:20201004T091116Z
UID:2686-1448323200-1448409599@cbsalumni.com
SUMMARY:การแข่งขันกอล์ฟการกุศลชิงถ้วยพระราชทานพระบาทสมเด็จพระเจ้าอยู่หัวฯ ประจำปี 2558
DESCRIPTION:จัดการแข่งขันกอล์ฟการกุศลชิงถ้วยพระราชทานพระบาทสมเด็จพระเจ้าอยู่หัวฯ ประจำปี 2558 \nมีทีมสมัครเข้าร่วมการแข่งขัน 42 ทีม รายได้สุทธิหลังหักค่าใช้จ่าย 1.88 ล้านบาท
URL:https://cbsalumni.com/event/golf-tournament-for-charity-2015/
LOCATION:ฝ่ายกิจกรรมหารายได้
END:VEVENT
END:VCALENDAR