BEGIN:VCALENDAR
VERSION:2.0
PRODID:-//สมาคมนิสิตเก่า คณะพาณิชยศาสตร์และการบัญชี แห่งจุฬาลงกรณ์มหาวิทยาลัย - ECPv5.2.1.1//NONSGML v1.0//EN
CALSCALE:GREGORIAN
METHOD:PUBLISH
X-WR-CALNAME:สมาคมนิสิตเก่า คณะพาณิชยศาสตร์และการบัญชี แห่งจุฬาลงกรณ์มหาวิทยาลัย
X-ORIGINAL-URL:https://cbsalumni.com
X-WR-CALDESC:Events for สมาคมนิสิตเก่า คณะพาณิชยศาสตร์และการบัญชี แห่งจุฬาลงกรณ์มหาวิทยาลัย
BEGIN:VTIMEZONE
TZID:Asia/Krasnoyarsk
BEGIN:STANDARD
TZOFFSETFROM:+0700
TZOFFSETTO:+0700
TZNAME:+07
DTSTART:20150101T000000
END:STANDARD
END:VTIMEZONE
BEGIN:VEVENT
DTSTART;VALUE=DATE:20150819
DTEND;VALUE=DATE:20150820
DTSTAMP:20260420T113906
CREATED:20201004T120741Z
LAST-MODIFIED:20201004T124615Z
UID:2786-1439942400-1440028799@cbsalumni.com
SUMMARY:พิธีมอบทุนการศึกษาเพื่อเสริมสร้างทักษะภาษาอังกฤษให้แก่นิสิตที่ขาดแคลนทุนทรัพย์
DESCRIPTION:พิธีมอบทุนการศึกษาเพื่อเสริมสร้างทักษะภาษาอังกฤษให้แก่นิสิตที่ขาดแคลนทุนทรัพย์ จำนวน 500\,000 บาท
URL:https://cbsalumni.com/event/giving-scholarship-for-improve-english-skill/
LOCATION:จุฬาลงกรณ์มหาวิทยาลัย
END:VEVENT
END:VCALENDAR