BEGIN:VCALENDAR
VERSION:2.0
PRODID:-//สมาคมนิสิตเก่า คณะพาณิชยศาสตร์และการบัญชี แห่งจุฬาลงกรณ์มหาวิทยาลัย - ECPv5.2.1.1//NONSGML v1.0//EN
CALSCALE:GREGORIAN
METHOD:PUBLISH
X-WR-CALNAME:สมาคมนิสิตเก่า คณะพาณิชยศาสตร์และการบัญชี แห่งจุฬาลงกรณ์มหาวิทยาลัย
X-ORIGINAL-URL:https://cbsalumni.com
X-WR-CALDESC:Events for สมาคมนิสิตเก่า คณะพาณิชยศาสตร์และการบัญชี แห่งจุฬาลงกรณ์มหาวิทยาลัย
BEGIN:VTIMEZONE
TZID:Asia/Krasnoyarsk
BEGIN:STANDARD
TZOFFSETFROM:+0700
TZOFFSETTO:+0700
TZNAME:+07
DTSTART:20180101T000000
END:STANDARD
END:VTIMEZONE
BEGIN:VEVENT
DTSTART;VALUE=DATE:20181208
DTEND;VALUE=DATE:20181212
DTSTAMP:20260421T153359
CREATED:20201007T040500Z
LAST-MODIFIED:20201007T040500Z
UID:3517-1544227200-1544572799@cbsalumni.com
SUMMARY:กิจกรรมทัศนศึกษา ประจำปี 2561
DESCRIPTION:จัดกิจกรรมทัศนศึกษาทัศนศึกษาน้ำตกทีลอซู อำเภอแม่สอด จังหวัดตาก
URL:https://cbsalumni.com/event/field-trip-in-2018/
LOCATION:ฝ่ายกิจกรรมสมาชิก
END:VEVENT
END:VCALENDAR