BEGIN:VCALENDAR
VERSION:2.0
PRODID:-//สมาคมนิสิตเก่า คณะพาณิชยศาสตร์และการบัญชี แห่งจุฬาลงกรณ์มหาวิทยาลัย - ECPv5.2.1.1//NONSGML v1.0//EN
CALSCALE:GREGORIAN
METHOD:PUBLISH
X-WR-CALNAME:สมาคมนิสิตเก่า คณะพาณิชยศาสตร์และการบัญชี แห่งจุฬาลงกรณ์มหาวิทยาลัย
X-ORIGINAL-URL:https://cbsalumni.com
X-WR-CALDESC:Events for สมาคมนิสิตเก่า คณะพาณิชยศาสตร์และการบัญชี แห่งจุฬาลงกรณ์มหาวิทยาลัย
BEGIN:VTIMEZONE
TZID:Asia/Krasnoyarsk
BEGIN:STANDARD
TZOFFSETFROM:+0800
TZOFFSETTO:+0800
TZNAME:+08
DTSTART:20130101T000000
END:STANDARD
END:VTIMEZONE
BEGIN:VEVENT
DTSTART;TZID=Asia/Krasnoyarsk:20130921T080000
DTEND;TZID=Asia/Krasnoyarsk:20130921T170000
DTSTAMP:20260423T153434
CREATED:20200924T072922Z
LAST-MODIFIED:20201003T091053Z
UID:1454-1379750400-1379782800@cbsalumni.com
SUMMARY:กิจกรรมทัศนศึกษา ประจำปี 2556
DESCRIPTION:จัดกิจกรรมทัศนศึกษา บริษัท รถไฟฟ้ากรุงเทพ จำกัด (มหาชน)
URL:https://cbsalumni.com/event/field-trip-in-2013/
LOCATION:ฝ่ายกิจกรรมสมาชิก
END:VEVENT
END:VCALENDAR