BEGIN:VCALENDAR
VERSION:2.0
PRODID:-//สมาคมนิสิตเก่า คณะพาณิชยศาสตร์และการบัญชี แห่งจุฬาลงกรณ์มหาวิทยาลัย - ECPv5.2.1.1//NONSGML v1.0//EN
CALSCALE:GREGORIAN
METHOD:PUBLISH
X-WR-CALNAME:สมาคมนิสิตเก่า คณะพาณิชยศาสตร์และการบัญชี แห่งจุฬาลงกรณ์มหาวิทยาลัย
X-ORIGINAL-URL:https://cbsalumni.com
X-WR-CALDESC:Events for สมาคมนิสิตเก่า คณะพาณิชยศาสตร์และการบัญชี แห่งจุฬาลงกรณ์มหาวิทยาลัย
BEGIN:VTIMEZONE
TZID:Asia/Krasnoyarsk
BEGIN:STANDARD
TZOFFSETFROM:+0700
TZOFFSETTO:+0800
TZNAME:+08
DTSTART:20110326T190000
END:STANDARD
END:VTIMEZONE
BEGIN:VEVENT
DTSTART;VALUE=DATE:20110619
DTEND;VALUE=DATE:20110620
DTSTAMP:20260419T233107
CREATED:20200923T083836Z
LAST-MODIFIED:20201002T165505Z
UID:1240-1308441600-1308527999@cbsalumni.com
SUMMARY:วันพัฒนาคณะฯ “คณะฯ สวยด้วยมือเรา” ประจำปี 2554
DESCRIPTION:ร่วมจัดกิจกรรมวันพัฒนาคณะฯ “คณะฯ สวยด้วยมือเรา”
URL:https://cbsalumni.com/event/faculty-development-day-2011/
LOCATION:ฝ่ายกิจกรรมนิสิต
END:VEVENT
END:VCALENDAR