BEGIN:VCALENDAR
VERSION:2.0
PRODID:-//สมาคมนิสิตเก่า คณะพาณิชยศาสตร์และการบัญชี แห่งจุฬาลงกรณ์มหาวิทยาลัย - ECPv5.2.1.1//NONSGML v1.0//EN
CALSCALE:GREGORIAN
METHOD:PUBLISH
X-WR-CALNAME:สมาคมนิสิตเก่า คณะพาณิชยศาสตร์และการบัญชี แห่งจุฬาลงกรณ์มหาวิทยาลัย
X-ORIGINAL-URL:https://cbsalumni.com
X-WR-CALDESC:Events for สมาคมนิสิตเก่า คณะพาณิชยศาสตร์และการบัญชี แห่งจุฬาลงกรณ์มหาวิทยาลัย
BEGIN:VTIMEZONE
TZID:Asia/Krasnoyarsk
BEGIN:STANDARD
TZOFFSETFROM:+0800
TZOFFSETTO:+0700
TZNAME:+07
DTSTART:20141025T180000
END:STANDARD
END:VTIMEZONE
BEGIN:VEVENT
DTSTART;VALUE=DATE:20141126
DTEND;VALUE=DATE:20141127
DTSTAMP:20260420T060219
CREATED:20200925T082123Z
LAST-MODIFIED:20201003T081544Z
UID:1667-1416960000-1417046399@cbsalumni.com
SUMMARY:งานเลี้ยงแสดงความยินดีแด่นิสิตเก่า คณะพาณิชยศาสตร์และการบัญชี แห่งจุฬาลงกรณ์มหาวิทยาลัย
DESCRIPTION:จัดงานเลี้ยงแสดงความยินดีแด่นิสิตเก่า คณะพาณิชยศาสตร์และการบัญชี แห่ง จุฬาลงกรณ์มหาวิทยาลัย เนื่องในโอกาสได้รับโปรดเกล้าฯ ให้ดำรงตำแหน่งสำคัญ\nและผู้ได้รับรางวัลนักธุรกิจสตรีตัวอย่าง และนักวิชาชีพสตรีตัวอย่าง จากสหพันธ์สมาคมนักธุรกิจและวิชาชีพแห่งประเทศไทย ในพระบรมราชูปถัมภ์
URL:https://cbsalumni.com/event/congratulations-party-for-shicu-2014/
LOCATION:ฝ่ายเลขาธิการ
END:VEVENT
END:VCALENDAR