BEGIN:VCALENDAR
VERSION:2.0
PRODID:-//สมาคมนิสิตเก่า คณะพาณิชยศาสตร์และการบัญชี แห่งจุฬาลงกรณ์มหาวิทยาลัย - ECPv5.2.1.1//NONSGML v1.0//EN
CALSCALE:GREGORIAN
METHOD:PUBLISH
X-WR-CALNAME:สมาคมนิสิตเก่า คณะพาณิชยศาสตร์และการบัญชี แห่งจุฬาลงกรณ์มหาวิทยาลัย
X-ORIGINAL-URL:https://cbsalumni.com
X-WR-CALDESC:Events for สมาคมนิสิตเก่า คณะพาณิชยศาสตร์และการบัญชี แห่งจุฬาลงกรณ์มหาวิทยาลัย
BEGIN:VTIMEZONE
TZID:Asia/Krasnoyarsk
BEGIN:STANDARD
TZOFFSETFROM:+0800
TZOFFSETTO:+0700
TZNAME:+07
DTSTART:20141025T180000
END:STANDARD
END:VTIMEZONE
BEGIN:VEVENT
DTSTART;VALUE=DATE:20140213
DTEND;VALUE=DATE:20140214
DTSTAMP:20260420T000248
CREATED:20200925T085001Z
LAST-MODIFIED:20201003T090420Z
UID:1693-1392249600-1392335999@cbsalumni.com
SUMMARY:ปัจฉิมนิเทศนิสิต ประจำปีการศึกษา 2556
DESCRIPTION:ร่วมงานปัจฉิมนิเทศนิสิต ประจำปีการศึกษา 2556
URL:https://cbsalumni.com/event/commencement-day-of-2013/
LOCATION:จุฬาลงกรณ์มหาวิทยาลัย
END:VEVENT
END:VCALENDAR