BEGIN:VCALENDAR
VERSION:2.0
PRODID:-//สมาคมนิสิตเก่า คณะพาณิชยศาสตร์และการบัญชี แห่งจุฬาลงกรณ์มหาวิทยาลัย - ECPv5.2.1.1//NONSGML v1.0//EN
CALSCALE:GREGORIAN
METHOD:PUBLISH
X-WR-CALNAME:สมาคมนิสิตเก่า คณะพาณิชยศาสตร์และการบัญชี แห่งจุฬาลงกรณ์มหาวิทยาลัย
X-ORIGINAL-URL:https://cbsalumni.com
X-WR-CALDESC:Events for สมาคมนิสิตเก่า คณะพาณิชยศาสตร์และการบัญชี แห่งจุฬาลงกรณ์มหาวิทยาลัย
BEGIN:VTIMEZONE
TZID:Asia/Krasnoyarsk
BEGIN:STANDARD
TZOFFSETFROM:+0700
TZOFFSETTO:+0700
TZNAME:+07
DTSTART:20150101T000000
END:STANDARD
END:VTIMEZONE
BEGIN:VEVENT
DTSTART;VALUE=DATE:20150816
DTEND;VALUE=DATE:20150817
DTSTAMP:20260424T152221
CREATED:20201004T110446Z
LAST-MODIFIED:20201004T110446Z
UID:2776-1439683200-1439769599@cbsalumni.com
SUMMARY:พิธีส่งมอบห้องเรียน 105 ห้อง “สมาคมนิสิตเก่า คณะพาณิชย์-บัญชี”
DESCRIPTION:จัดพิธีส่งมอบห้องเรียน 105 ห้อง “สมาคมนิสิตเก่า คณะพาณิชย์-บัญชี” ชั้น 1 อาคารไชยยศสมบัติ 3 ที่สมาคมฯ ให้การสนับสนุนการปรับปรุง
URL:https://cbsalumni.com/event/classroom-105-of-chula-accounting-alumni-association/
LOCATION:ห้อง 105 ห้อง สมาคมนิสิตเก่า คณะพาณิชย์-บัญชี
END:VEVENT
END:VCALENDAR