BEGIN:VCALENDAR
VERSION:2.0
PRODID:-//สมาคมนิสิตเก่า คณะพาณิชยศาสตร์และการบัญชี แห่งจุฬาลงกรณ์มหาวิทยาลัย - ECPv5.2.1.1//NONSGML v1.0//EN
CALSCALE:GREGORIAN
METHOD:PUBLISH
X-WR-CALNAME:สมาคมนิสิตเก่า คณะพาณิชยศาสตร์และการบัญชี แห่งจุฬาลงกรณ์มหาวิทยาลัย
X-ORIGINAL-URL:https://cbsalumni.com
X-WR-CALDESC:Events for สมาคมนิสิตเก่า คณะพาณิชยศาสตร์และการบัญชี แห่งจุฬาลงกรณ์มหาวิทยาลัย
BEGIN:VTIMEZONE
TZID:Asia/Krasnoyarsk
BEGIN:STANDARD
TZOFFSETFROM:+0700
TZOFFSETTO:+0700
TZNAME:+07
DTSTART:20160101T000000
END:STANDARD
END:VTIMEZONE
BEGIN:VEVENT
DTSTART;VALUE=DATE:20161205
DTEND;VALUE=DATE:20161206
DTSTAMP:20260421T184109
CREATED:20201005T090303Z
LAST-MODIFIED:20201005T090303Z
UID:3153-1480896000-1480982399@cbsalumni.com
SUMMARY:กิจกรรม “จุฬาฯ จุดเทียนบวงสรวงด้วยดวงใจภักดิ์”
DESCRIPTION:ร่วมจุดเทียน ร้องเพลงมหาจุฬาลงกรณ์ และเพลงสรรเสริญพระบารมี ในกิจกรรม “จุฬาฯ จุดเทียนบวงสรวงด้วยดวงใจภักดิ์”
URL:https://cbsalumni.com/event/chula-light-a-candle-to-worship-with-heart/
LOCATION:จุฬาลงกรณ์มหาวิทยาลัย
END:VEVENT
END:VCALENDAR