BEGIN:VCALENDAR
VERSION:2.0
PRODID:-//สมาคมนิสิตเก่า คณะพาณิชยศาสตร์และการบัญชี แห่งจุฬาลงกรณ์มหาวิทยาลัย - ECPv5.2.1.1//NONSGML v1.0//EN
CALSCALE:GREGORIAN
METHOD:PUBLISH
X-WR-CALNAME:สมาคมนิสิตเก่า คณะพาณิชยศาสตร์และการบัญชี แห่งจุฬาลงกรณ์มหาวิทยาลัย
X-ORIGINAL-URL:https://cbsalumni.com
X-WR-CALDESC:Events for สมาคมนิสิตเก่า คณะพาณิชยศาสตร์และการบัญชี แห่งจุฬาลงกรณ์มหาวิทยาลัย
BEGIN:VTIMEZONE
TZID:Asia/Krasnoyarsk
BEGIN:STANDARD
TZOFFSETFROM:+0700
TZOFFSETTO:+0700
TZNAME:+07
DTSTART:20150101T000000
END:STANDARD
END:VTIMEZONE
BEGIN:VEVENT
DTSTART;VALUE=DATE:20150129
DTEND;VALUE=DATE:20150130
DTSTAMP:20260420T055431
CREATED:20201003T144018Z
LAST-MODIFIED:20201003T145217Z
UID:2521-1422489600-1422575999@cbsalumni.com
SUMMARY:จัดงานคืนสู่เหย้า “BACK TO THE SHI’S FUTURE”
DESCRIPTION:จัดงานคืนสู่เหย้า “BACK TO THE SHI’S FUTURE”
URL:https://cbsalumni.com/event/back-to-the-shi-future/
LOCATION:ฝ่ายกิจกรรมสมาชิก
END:VEVENT
END:VCALENDAR