BEGIN:VCALENDAR
VERSION:2.0
PRODID:-//สมาคมนิสิตเก่า คณะพาณิชยศาสตร์และการบัญชี แห่งจุฬาลงกรณ์มหาวิทยาลัย - ECPv5.2.1.1//NONSGML v1.0//EN
CALSCALE:GREGORIAN
METHOD:PUBLISH
X-WR-CALNAME:สมาคมนิสิตเก่า คณะพาณิชยศาสตร์และการบัญชี แห่งจุฬาลงกรณ์มหาวิทยาลัย
X-ORIGINAL-URL:https://cbsalumni.com
X-WR-CALDESC:Events for สมาคมนิสิตเก่า คณะพาณิชยศาสตร์และการบัญชี แห่งจุฬาลงกรณ์มหาวิทยาลัย
BEGIN:VTIMEZONE
TZID:Asia/Krasnoyarsk
BEGIN:STANDARD
TZOFFSETFROM:+0700
TZOFFSETTO:+0700
TZNAME:+07
DTSTART:20180101T000000
END:STANDARD
END:VTIMEZONE
BEGIN:VEVENT
DTSTART;VALUE=DATE:20180528
DTEND;VALUE=DATE:20180529
DTSTAMP:20260419T220622
CREATED:20201007T063625Z
LAST-MODIFIED:20201007T063720Z
UID:3635-1527465600-1527551999@cbsalumni.com
SUMMARY:เข้าเฝ้าฯ ทูลเกล้าฯ ถวายเงินรายได้จากการจัดการแข่งขันกอล์ฟการกุศล ประจำปี 2560
DESCRIPTION:เข้าเฝ้าทูลเกล้าฯ ถวายเงินรายได้ จำนวน 500\,000 บาท จากการจัดการแข่งขันกอล์ฟการกุศล ประจำปี 2560
URL:https://cbsalumni.com/event/attend-ceremony-for-donate-money-from-golf-tournament-2017/
LOCATION:จุฬาลงกรณ์มหาวิทยาลัย
END:VEVENT
END:VCALENDAR