BEGIN:VCALENDAR
VERSION:2.0
PRODID:-//สมาคมนิสิตเก่า คณะพาณิชยศาสตร์และการบัญชี แห่งจุฬาลงกรณ์มหาวิทยาลัย - ECPv5.2.1.1//NONSGML v1.0//EN
CALSCALE:GREGORIAN
METHOD:PUBLISH
X-WR-CALNAME:สมาคมนิสิตเก่า คณะพาณิชยศาสตร์และการบัญชี แห่งจุฬาลงกรณ์มหาวิทยาลัย
X-ORIGINAL-URL:https://cbsalumni.com
X-WR-CALDESC:Events for สมาคมนิสิตเก่า คณะพาณิชยศาสตร์และการบัญชี แห่งจุฬาลงกรณ์มหาวิทยาลัย
BEGIN:VTIMEZONE
TZID:Asia/Krasnoyarsk
BEGIN:STANDARD
TZOFFSETFROM:+0700
TZOFFSETTO:+0700
TZNAME:+07
DTSTART:20170101T000000
END:STANDARD
END:VTIMEZONE
BEGIN:VEVENT
DTSTART;VALUE=DATE:20170105
DTEND;VALUE=DATE:20170106
DTSTAMP:20260421T171238
CREATED:20201005T073350Z
LAST-MODIFIED:20201005T073350Z
UID:3070-1483574400-1483660799@cbsalumni.com
SUMMARY:เข้าเฝ้าฯ ทูลเกล้าฯ ถวายเงินรายได้จากการจัดการแข่งขันกอล์ฟการกุศล ประจำปี 2558
DESCRIPTION:เข้าเฝ้าฯ สมเด็จพระเทพรัตนราชสุดา สยามบรมราชกุมารี ทูลเกล้าฯ ถวายเงินรายได้จากการจัดการแข่งขันกอล์ฟการกุศล ประจำปี 2558 จำนวน 500\,000 บาท ณ ศาลาดุสิดาลัย สวนจิตรลดา
URL:https://cbsalumni.com/event/attend-ceremony-for-donate-money-from-golf-tournament-2015/
LOCATION:ฝ่ายเลขาธิการ
END:VEVENT
END:VCALENDAR