BEGIN:VCALENDAR
VERSION:2.0
PRODID:-//สมาคมนิสิตเก่า คณะพาณิชยศาสตร์และการบัญชี แห่งจุฬาลงกรณ์มหาวิทยาลัย - ECPv5.2.1.1//NONSGML v1.0//EN
CALSCALE:GREGORIAN
METHOD:PUBLISH
X-WR-CALNAME:สมาคมนิสิตเก่า คณะพาณิชยศาสตร์และการบัญชี แห่งจุฬาลงกรณ์มหาวิทยาลัย
X-ORIGINAL-URL:https://cbsalumni.com
X-WR-CALDESC:Events for สมาคมนิสิตเก่า คณะพาณิชยศาสตร์และการบัญชี แห่งจุฬาลงกรณ์มหาวิทยาลัย
BEGIN:VTIMEZONE
TZID:Asia/Krasnoyarsk
BEGIN:STANDARD
TZOFFSETFROM:+0800
TZOFFSETTO:+0800
TZNAME:+08
DTSTART:20130101T000000
END:STANDARD
END:VTIMEZONE
BEGIN:VEVENT
DTSTART;VALUE=DATE:20131206
DTEND;VALUE=DATE:20131207
DTSTAMP:20260421T170702
CREATED:20200924T093434Z
LAST-MODIFIED:20201003T090607Z
UID:1503-1386288000-1386374399@cbsalumni.com
SUMMARY:เข้าเฝ้าฯ ทูลเกล้าฯ ถวายเงินรายได้จากการจัดการแข่งขันกอล์ฟการกุศล ประจำปี 2556
DESCRIPTION:ประสานงานเพื่อเข้าเฝ้าฯ ทูลเกล้าฯ ถวายเงินรายได้จากการจัดการแข่งขันกอล์ฟการกุศล ชิงถ้วยพระราชทานพระบาทสมเด็จพระเจ้าอยู่หัว ภูมิพลอดุลยเดช ประจำปี 2555 \nจำนวน 500\,000 บาท
URL:https://cbsalumni.com/event/attend-ceremony-for-donate-money-from-golf-tournament-2013/
LOCATION:ฝ่ายเลขาธิการ
END:VEVENT
END:VCALENDAR