BEGIN:VCALENDAR
VERSION:2.0
PRODID:-//สมาคมนิสิตเก่า คณะพาณิชยศาสตร์และการบัญชี แห่งจุฬาลงกรณ์มหาวิทยาลัย - ECPv5.2.1.1//NONSGML v1.0//EN
CALSCALE:GREGORIAN
METHOD:PUBLISH
X-WR-CALNAME:สมาคมนิสิตเก่า คณะพาณิชยศาสตร์และการบัญชี แห่งจุฬาลงกรณ์มหาวิทยาลัย
X-ORIGINAL-URL:https://cbsalumni.com
X-WR-CALDESC:Events for สมาคมนิสิตเก่า คณะพาณิชยศาสตร์และการบัญชี แห่งจุฬาลงกรณ์มหาวิทยาลัย
BEGIN:VTIMEZONE
TZID:Asia/Krasnoyarsk
BEGIN:STANDARD
TZOFFSETFROM:+0800
TZOFFSETTO:+0800
TZNAME:+08
DTSTART:20120101T000000
END:STANDARD
END:VTIMEZONE
BEGIN:VEVENT
DTSTART;VALUE=DATE:20120814
DTEND;VALUE=DATE:20120815
DTSTAMP:20260421T171341
CREATED:20120814T152514Z
LAST-MODIFIED:20201002T093725Z
UID:1894-1344902400-1344988799@cbsalumni.com
SUMMARY:นิสิตเก่ารุ่น 9 และ 10 มอบพระไพรีพินาศให้ BANDSHI
DESCRIPTION:เมื่อวันที่ 14 สิงหาคม 2555 \nพล.ต.ต.เชาวลิต – คุณกันยา สิงห์เจริญ บัญชีจุฬาฯ รุ่น 9 และรุ่น 10 และคุณหญิงจินดา จรุงเจริญเวชช์ บัญชีจุฬาฯ รุ่น 10 ได้มอบพระไพรีพินาศให้แก่วงดนตรี Bandshi \nโดยมี อาจารย์ศันธยา กิตติโกวิท รองคณบดีฝ่ายกิจการนิสิตคณะพาณิชยศาสตร์และการบัญชี และอาจารย์วิชัย พรรณเชษฐ์ ที่ปรึกษาฝ่ายกิจการนิสิต รับมอบ
URL:https://cbsalumni.com/event/alumni-offer-phra-phai-ree-phinat-to-bandshi-band/
LOCATION:จุฬาลงกรณ์มหาวิทยาลัย
END:VEVENT
END:VCALENDAR