BEGIN:VCALENDAR
VERSION:2.0
PRODID:-//สมาคมนิสิตเก่า คณะพาณิชยศาสตร์และการบัญชี แห่งจุฬาลงกรณ์มหาวิทยาลัย - ECPv5.2.1.1//NONSGML v1.0//EN
CALSCALE:GREGORIAN
METHOD:PUBLISH
X-WR-CALNAME:สมาคมนิสิตเก่า คณะพาณิชยศาสตร์และการบัญชี แห่งจุฬาลงกรณ์มหาวิทยาลัย
X-ORIGINAL-URL:https://cbsalumni.com
X-WR-CALDESC:Events for สมาคมนิสิตเก่า คณะพาณิชยศาสตร์และการบัญชี แห่งจุฬาลงกรณ์มหาวิทยาลัย
BEGIN:VTIMEZONE
TZID:Asia/Krasnoyarsk
BEGIN:STANDARD
TZOFFSETFROM:+0800
TZOFFSETTO:+0700
TZNAME:+07
DTSTART:20141025T180000
END:STANDARD
END:VTIMEZONE
BEGIN:VEVENT
DTSTART;VALUE=DATE:20141016
DTEND;VALUE=DATE:20141017
DTSTAMP:20260420T060220
CREATED:20200925T050410Z
LAST-MODIFIED:20201003T083138Z
UID:1605-1413417600-1413503999@cbsalumni.com
SUMMARY:อบรมสัมมนาทางด้านบัญชี ครั้งที่ 2/2557
DESCRIPTION:จัดอบรมสัมมนาทางด้านบัญชี หัวข้อ “ประเด็นร้อนและเตรียมพร้อมสำหรับปี 2558 ด้านบัญชีและภาษี” \nผู้เข้าร่วมสัมมนา จำนวน 157 คน \nรายได้สุทธิหลังหักค่าใช้จ่าย จำนวนเงิน 0.26 ล้านบาท
URL:https://cbsalumni.com/event/accounting-seminar-2-in-2014/
LOCATION:ฝ่ายวิชาการ และฝ่ายกิจกรรมหารายได้
END:VEVENT
END:VCALENDAR