BEGIN:VCALENDAR
VERSION:2.0
PRODID:-//สมาคมนิสิตเก่า คณะพาณิชยศาสตร์และการบัญชี แห่งจุฬาลงกรณ์มหาวิทยาลัย - ECPv5.2.1.1//NONSGML v1.0//EN
CALSCALE:GREGORIAN
METHOD:PUBLISH
X-WR-CALNAME:สมาคมนิสิตเก่า คณะพาณิชยศาสตร์และการบัญชี แห่งจุฬาลงกรณ์มหาวิทยาลัย
X-ORIGINAL-URL:https://cbsalumni.com
X-WR-CALDESC:Events for สมาคมนิสิตเก่า คณะพาณิชยศาสตร์และการบัญชี แห่งจุฬาลงกรณ์มหาวิทยาลัย
BEGIN:VTIMEZONE
TZID:Asia/Krasnoyarsk
BEGIN:STANDARD
TZOFFSETFROM:+0700
TZOFFSETTO:+0700
TZNAME:+07
DTSTART:20160101T000000
END:STANDARD
END:VTIMEZONE
BEGIN:VEVENT
DTSTART;VALUE=DATE:20160620
DTEND;VALUE=DATE:20160621
DTSTAMP:20260420T121429
CREATED:20201005T023556Z
LAST-MODIFIED:20201005T023556Z
UID:2825-1466380800-1466467199@cbsalumni.com
SUMMARY:อบรมสัมมนาทางด้านบัญชี ครั้งที่ 2/2559
DESCRIPTION:จัดอบรมสัมมนาทางด้านบัญชี หัวข้อ “แนวทางการปฏิรูปภาษีอากรของไทย และเตรียมรับมือกับ E-Payment”\nผู้เข้าร่วมสัมมนา จำนวน 254 คน รายได้สุทธิหลังหักค่าใช้จ่าย จำนวนเงิน 0.36 ล้านบาท
URL:https://cbsalumni.com/event/accounting-seminar-2-2016/
LOCATION:ฝ่ายวิชาการ และฝ่ายกิจกรรมหารายได้
END:VEVENT
END:VCALENDAR