BEGIN:VCALENDAR
VERSION:2.0
PRODID:-//สมาคมนิสิตเก่า คณะพาณิชยศาสตร์และการบัญชี แห่งจุฬาลงกรณ์มหาวิทยาลัย - ECPv5.2.1.1//NONSGML v1.0//EN
CALSCALE:GREGORIAN
METHOD:PUBLISH
X-WR-CALNAME:สมาคมนิสิตเก่า คณะพาณิชยศาสตร์และการบัญชี แห่งจุฬาลงกรณ์มหาวิทยาลัย
X-ORIGINAL-URL:https://cbsalumni.com
X-WR-CALDESC:Events for สมาคมนิสิตเก่า คณะพาณิชยศาสตร์และการบัญชี แห่งจุฬาลงกรณ์มหาวิทยาลัย
BEGIN:VTIMEZONE
TZID:Asia/Krasnoyarsk
BEGIN:STANDARD
TZOFFSETFROM:+0700
TZOFFSETTO:+0700
TZNAME:+07
DTSTART:20150101T000000
END:STANDARD
END:VTIMEZONE
BEGIN:VEVENT
DTSTART;VALUE=DATE:20151028
DTEND;VALUE=DATE:20151029
DTSTAMP:20260420T071350
CREATED:20201003T141944Z
LAST-MODIFIED:20201004T084955Z
UID:2515-1445990400-1446076799@cbsalumni.com
SUMMARY:อบรมสัมมนาทางด้านบัญชี ครั้งที่ 2/2558
DESCRIPTION:จัดอบรมสัมมนาทางด้านบัญชี หัวข้อ “ภาษีเงินได้นิติบุคคลสำหรับกิจการ PAEs และ NPAEs ความเหมือนและข้อแตกต่างและประเด็นสำคัญของภาษีเงินได้นิติบุคคลสำหรับปี 2559”\nผู้เข้าร่วมสัมมนา จำนวน 108 คน รายได้สุทธิหลังหักค่าใช้จ่าย จำนวนเงิน 0.16 ล้านบาท
URL:https://cbsalumni.com/event/accounting-seminar-2-2015/
LOCATION:ฝ่ายวิชาการ และฝ่ายกิจกรรมหารายได้
END:VEVENT
END:VCALENDAR