BEGIN:VCALENDAR
VERSION:2.0
PRODID:-//สมาคมนิสิตเก่า คณะพาณิชยศาสตร์และการบัญชี แห่งจุฬาลงกรณ์มหาวิทยาลัย - ECPv5.2.1.1//NONSGML v1.0//EN
CALSCALE:GREGORIAN
METHOD:PUBLISH
X-WR-CALNAME:สมาคมนิสิตเก่า คณะพาณิชยศาสตร์และการบัญชี แห่งจุฬาลงกรณ์มหาวิทยาลัย
X-ORIGINAL-URL:https://cbsalumni.com
X-WR-CALDESC:Events for สมาคมนิสิตเก่า คณะพาณิชยศาสตร์และการบัญชี แห่งจุฬาลงกรณ์มหาวิทยาลัย
BEGIN:VTIMEZONE
TZID:Asia/Krasnoyarsk
BEGIN:STANDARD
TZOFFSETFROM:+0800
TZOFFSETTO:+0700
TZNAME:+07
DTSTART:20141025T180000
END:STANDARD
END:VTIMEZONE
BEGIN:VEVENT
DTSTART;VALUE=DATE:20141205
DTEND;VALUE=DATE:20141208
DTSTAMP:20260420T043627
CREATED:20200925T052531Z
LAST-MODIFIED:20201003T081320Z
UID:1622-1417737600-1417996799@cbsalumni.com
SUMMARY:กิจกรรมทัศนศึกษา ครั้งที่ 2/2557
DESCRIPTION:จัดกิจกรรมทัศนศึกษาเยี่ยมชม เขื่อนรัชชประภา จังหวัดสุราษฎร์ธานี
URL:https://cbsalumni.com/event/2nd-field-trip-in-2014/
LOCATION:ฝ่ายกิจกรรมสมาชิก
END:VEVENT
END:VCALENDAR